BEGIN:VCALENDAR
VERSION:2.0
PRODID:-//www.halldawsoncasa.org//NONSGML kigkonsult.se iCalcreator 2.30.10
 //
CALSCALE:GREGORIAN
METHOD:PUBLISH
UID:249aed53-ee5b-49cd-bcaa-8ac03236ec60
X-WR-CALDESC:Presented by Zero to Three\nWebinar participants will understa
 nd how relationships play a pivotal role in shaping the trajectory of a ch
 ild’s development. From the earliest moments of life\, the interactions ch
 ildren have with caregivers and their surrounding environment form the fou
 ndation for their cognitive\, social\, emotional\, and physical developmen
 t. This webinar\, tailored for CASA/GAL staff and volunteers\, delves deep
  into the intertwined nature of relationships and development in the early
  years. Leveraging the considerable expertise of Zero to Three\, the conte
 nt ensures a comprehensive understanding and actionable insights for CASA/
 GAL staff and volunteers.\nNumber of in-service credits: 1.0\n
X-WR-RELCALID:b2497c50dff2762823ad7ad1321816d7
X-WR-TIMEZONE:America/New_York
BEGIN:VTIMEZONE
TZID:America/New_York
BEGIN:STANDARD
TZNAME:EST
DTSTART:20221106T020000
TZOFFSETFROM:-0400
TZOFFSETTO:-0500
RDATE:20231105T020000
RDATE:20241103T020000
END:STANDARD
BEGIN:DAYLIGHT
TZNAME:EDT
DTSTART:20230312T020000
TZOFFSETFROM:-0500
TZOFFSETTO:-0400
RDATE:20240310T020000
RDATE:20250309T020000
END:DAYLIGHT
END:VTIMEZONE
BEGIN:VEVENT
UID:cfbf56ca-8157-4aa0-9922-bcf9e98fef3d
DTSTAMP:20260420T103920Z
DESCRIPTION:Presented by Zero to Three\nWebinar participants will understan
 d how relationships play a pivotal role in shaping the trajectory of a chi
 ld’s development. From the earliest moments of life\, the interactions chi
 ldren have with caregivers and their surrounding environment form the foun
 dation for their cognitive\, social\, emotional\, and physical development
 . This webinar\, tailored for CASA/GAL staff and volunteers\, delves deep 
 into the intertwined nature of relationships and development in the early 
 years. Leveraging the considerable expertise of Zero to Three\, the conten
 t ensures a comprehensive understanding and actionable insights for CASA/G
 AL staff and volunteers.\nNumber of in-service credits: 1.0\n
DTSTART;TZID=America/New_York:20231025T130000
DTEND;TZID=America/New_York:20231025T140000
LOCATION:
SUMMARY:In-Service Training: Understanding Relationships and their Importan
 ce to Early Childhood Development
END:VEVENT
END:VCALENDAR
