BEGIN:VCALENDAR
VERSION:2.0
PRODID:-//www.halldawsoncasa.org//NONSGML kigkonsult.se iCalcreator 2.30.10
 //
CALSCALE:GREGORIAN
METHOD:PUBLISH
UID:5a920d33-1f49-48ec-a279-910e0bee817c
X-WR-CALDESC:
X-WR-RELCALID:9aa1590418379078d84affde6f854f1d
X-WR-TIMEZONE:America/New_York
BEGIN:VTIMEZONE
TZID:America/New_York
BEGIN:STANDARD
TZNAME:EST
DTSTART:20231105T020000
TZOFFSETFROM:-0400
TZOFFSETTO:-0500
RDATE:20241103T020000
END:STANDARD
BEGIN:DAYLIGHT
TZNAME:EDT
DTSTART:20230312T020000
TZOFFSETFROM:-0500
TZOFFSETTO:-0400
RDATE:20240310T020000
RDATE:20250309T020000
END:DAYLIGHT
END:VTIMEZONE
BEGIN:VEVENT
UID:e48d3dcb-cefb-49ee-9aff-4109812d6d87
DTSTAMP:20260420T085417Z
DESCRIPTION:
DTSTART;TZID=America/New_York:20231130T183000
DTEND;TZID=America/New_York:20231130T193000
LOCATION:The Little House
SUMMARY:Giving Tree
END:VEVENT
END:VCALENDAR
